BEGIN:VCALENDAR
VERSION:2.0
PRODID:-//Tukios.com/
BEGIN:VEVENT
UID:0c8f54b5-7c51-474e-aff3-ac925b2931e4@www.saxetfuneralhome.com
DTSTAMP:20260421T224241Z
DTSTART:20260424T150000Z
DTEND:20260424T160000Z
SUMMARY:Burial
DESCRIPTION:
URL:https://www.saxetfuneralhome.com/obituaries/roberto-espinoza
LOCATION: 4357 Ocean Dr.  Corpus Christi TX 78412
GEO:27.7316218;-97.3639943
END:VEVENT
END:VCALENDAR