BEGIN:VCALENDAR
VERSION:2.0
PRODID:-//Tukios.com/
BEGIN:VEVENT
UID:b2cd4941-9bab-45a2-b071-f76a25ec4881@www.saxetfuneralhome.com
DTSTAMP:20260421T224553Z
DTSTART:20260424T130000Z
DTEND:20260424T143000Z
SUMMARY:Funeral Service
DESCRIPTION:
URL:https://www.saxetfuneralhome.com/obituaries/roberto-espinoza
LOCATION: 4001 Leopard St  Corpus Christi TX 78408
GEO:27.7966459;-97.4396086
END:VEVENT
END:VCALENDAR