BEGIN:VCALENDAR
VERSION:2.0
PRODID:-//Tukios.com/
BEGIN:VEVENT
UID:c6a163b7-8a9e-4bdc-ab70-86a3a86aae21@www.saxetfuneralhome.com
DTSTAMP:20260421T224553Z
DTSTART:20260423T230000Z
DTEND:20260424T000000Z
SUMMARY:Rosary
DESCRIPTION:
URL:https://www.saxetfuneralhome.com/obituaries/roberto-espinoza
LOCATION: 4001 Leopard St  Corpus Christi TX 78408
GEO:27.7966459;-97.4396086
END:VEVENT
END:VCALENDAR