BEGIN:VCALENDAR
VERSION:2.0
PRODID:-//Tukios.com/
BEGIN:VEVENT
UID:3b5fea7c-a09e-4341-870e-f654d806cf59@www.saxetfuneralhome.com
DTSTAMP:20260421T224234Z
DTSTART:20260423T200000Z
DTEND:20260424T020000Z
SUMMARY:Visitation
DESCRIPTION:
URL:https://www.saxetfuneralhome.com/obituaries/roberto-espinoza
LOCATION: 4001 Leopard St  Corpus Christi TX 78408
GEO:27.7966459;-97.4396086
END:VEVENT
END:VCALENDAR