BEGIN:VCALENDAR
VERSION:2.0
PRODID:-//Tukios.com/
BEGIN:VEVENT
UID:9737100e-63b2-4373-b374-7dd2b6288585@www.saxetfuneralhome.com
DTSTAMP:20260421T090611Z
DTSTART:20260209T190000Z
DTEND:20260209T193000Z
SUMMARY:Burial
DESCRIPTION:
URL:https://www.saxetfuneralhome.com/obituaries/manolito-espino
LOCATION: 9974 I-37  Corpus Christi TX 78410
GEO:27.8431074;-97.5579004
END:VEVENT
END:VCALENDAR