BEGIN:VCALENDAR
VERSION:2.0
PRODID:-//Tukios.com/
BEGIN:VEVENT
UID:973b8ece-a1c3-46d4-b227-814b22c8888e@www.saxetfuneralhome.com
DTSTAMP:20260421T085122Z
DTSTART:20260209T173000Z
DTEND:20260209T183000Z
SUMMARY:Mass
DESCRIPTION:
URL:https://www.saxetfuneralhome.com/obituaries/manolito-espino
LOCATION: 710 South 19th Street  Corpus Christi TX 78405
GEO:27.7841588;-97.4128082
END:VEVENT
END:VCALENDAR